BEGIN:VCALENDAR
VERSION:2.0
PRODID:-//https://mail.stjohns1p.com///NONSGML kigkonsult.se iCalcreator 2.10.15//
METHOD:PUBLISH
BEGIN:VEVENT
UID:20260420T140247UTC-9600KsE5gx@https://mail.stjohns1p.com/
DTSTAMP:20260420T140247Z
DESCRIPTION: https://mail.stjohns1p.com/component/rseventspro/event/100-jen
 ks-lodge-24?Itemid=101
DTSTART:20260427T193000Z
DTEND:20260427T235700Z
LOCATION:Jenks Lodge #24 (50 Pleasant St\, Pawtucket\, RI 02860\, USA)
SUMMARY:Jenks Lodge #24
URL:https://mail.stjohns1p.com/component/rseventspro/event/100-jenks-lodge-
 24?Itemid=101
END:VEVENT
END:VCALENDAR
