BEGIN:VCALENDAR
VERSION:2.0
PRODID:-//https://mail.stjohns1p.com///NONSGML kigkonsult.se iCalcreator 2.10.15//
METHOD:PUBLISH
BEGIN:VEVENT
UID:20260422T142029UTC-8096iIUFvG@https://mail.stjohns1p.com/
DTSTAMP:20260422T142029Z
DESCRIPTION: https://mail.stjohns1p.com/calendar/event/30-gm-visitation-cha
 rity-lodge-23-st-johns-lodge-1p
DTSTART:20260326T193000Z
DTEND:20260326T235700Z
LOCATION:St. John's Lodge #1P (2115 Broad Street\, Cranston\, RI 02905\, US
 A)
SUMMARY:GM Visitation: Charity Lodge #23 St. Johns Lodge #1P
URL:https://mail.stjohns1p.com/calendar/event/30-gm-visitation-charity-lodg
 e-23-st-johns-lodge-1p
END:VEVENT
END:VCALENDAR
