BEGIN:VCALENDAR
VERSION:2.0
PRODID:-//https://mail.stjohns1p.com///NONSGML kigkonsult.se iCalcreator 2.10.15//
METHOD:PUBLISH
BEGIN:VEVENT
UID:20260424T132205UTC-8869AjXnS9@https://mail.stjohns1p.com/
DTSTAMP:20260424T132205Z
DESCRIPTION: https://mail.stjohns1p.com/calendar/event/28-dd-visitation-to-
 overseas-lodge-40
DTSTART:20250408T191500Z
DTEND:20250408T210000Z
LOCATION:Overseas Lodge #40 (2115 Broad Street\, Cranston\, RI 02905\, USA)
SUMMARY:DD Visitation To Overseas Lodge #40
URL:https://mail.stjohns1p.com/calendar/event/28-dd-visitation-to-overseas-
 lodge-40
END:VEVENT
END:VCALENDAR
