BEGIN:VCALENDAR
VERSION:2.0
PRODID:-//https://mail.stjohns1p.com///NONSGML kigkonsult.se iCalcreator 2.10.15//
METHOD:PUBLISH
BEGIN:VEVENT
UID:20260422T141854UTC-8624Roufwb@https://mail.stjohns1p.com/
DTSTAMP:20260422T141854Z
DESCRIPTION: https://mail.stjohns1p.com/calendar/event/10-gm-visitation-eas
 t-bay-district-adelphoi-lodge-33
DTSTART:20241105T191500Z
DTEND:20241105T210000Z
LOCATION:Adelphoi Lodge #33 (18 Turner Ave Riverside\, RI 02915)
SUMMARY:GM Visitation East Bay District: Adelphoi Lodge #33
URL:https://mail.stjohns1p.com/calendar/event/10-gm-visitation-east-bay-dis
 trict-adelphoi-lodge-33
END:VEVENT
END:VCALENDAR
